BEGIN:VCALENDAR
VERSION:2.0
PRODID:-//Jimtown Park - ECPv6.15.16.1//NONSGML v1.0//EN
CALSCALE:GREGORIAN
METHOD:PUBLISH
X-WR-CALNAME:Jimtown Park
X-ORIGINAL-URL:https://jimtownpark.com
X-WR-CALDESC:Events for Jimtown Park
REFRESH-INTERVAL;VALUE=DURATION:PT1H
X-Robots-Tag:noindex
X-PUBLISHED-TTL:PT1H
BEGIN:VTIMEZONE
TZID:America/New_York
BEGIN:DAYLIGHT
TZOFFSETFROM:-0500
TZOFFSETTO:-0400
TZNAME:EDT
DTSTART:20250309T070000
END:DAYLIGHT
BEGIN:STANDARD
TZOFFSETFROM:-0400
TZOFFSETTO:-0500
TZNAME:EST
DTSTART:20251102T060000
END:STANDARD
BEGIN:DAYLIGHT
TZOFFSETFROM:-0500
TZOFFSETTO:-0400
TZNAME:EDT
DTSTART:20260308T070000
END:DAYLIGHT
BEGIN:STANDARD
TZOFFSETFROM:-0400
TZOFFSETTO:-0500
TZNAME:EST
DTSTART:20261101T060000
END:STANDARD
BEGIN:DAYLIGHT
TZOFFSETFROM:-0500
TZOFFSETTO:-0400
TZNAME:EDT
DTSTART:20270314T070000
END:DAYLIGHT
BEGIN:STANDARD
TZOFFSETFROM:-0400
TZOFFSETTO:-0500
TZNAME:EST
DTSTART:20271107T060000
END:STANDARD
END:VTIMEZONE
BEGIN:VEVENT
DTSTART;TZID=America/New_York:20260228T120000
DTEND;TZID=America/New_York:20260228T140000
DTSTAMP:20260423T184103
CREATED:20260208T215207Z
LAST-MODIFIED:20260208T215207Z
UID:590-1772280000-1772287200@jimtownpark.com
SUMMARY:Baseball (Ages 9–12) Workout
DESCRIPTION:Elementary Gym\n12:00-2:00pm
URL:https://jimtownpark.com/event/baseball-ages-9-12-workout-3/
LOCATION:Elementary Gym
CATEGORIES:Winter Workouts
END:VEVENT
BEGIN:VEVENT
DTSTART;TZID=America/New_York:20260302T180000
DTEND;TZID=America/New_York:20260302T200000
DTSTAMP:20260423T184103
CREATED:20260208T212418Z
LAST-MODIFIED:20260208T212418Z
UID:546-1772474400-1772481600@jimtownpark.com
SUMMARY:Boys of Summer 10U Workout
DESCRIPTION:Elementary Gym\nMondays\, 6:00-8:00pm
URL:https://jimtownpark.com/event/boys-of-summer-10u-workout-2/
LOCATION:Elementary Gym
CATEGORIES:Winter Workouts
END:VEVENT
BEGIN:VEVENT
DTSTART;TZID=America/New_York:20260304T180000
DTEND;TZID=America/New_York:20260304T190000
DTSTAMP:20260423T184103
CREATED:20260208T213125Z
LAST-MODIFIED:20260208T213125Z
UID:562-1772647200-1772650800@jimtownpark.com
SUMMARY:Softball 8U/10U Workout
DESCRIPTION:Elementary Gym\n8U/10U — 6:00pm
URL:https://jimtownpark.com/event/softball-8u-10u-workout-2/
LOCATION:Elementary Gym
CATEGORIES:Winter Workouts
END:VEVENT
BEGIN:VEVENT
DTSTART;TZID=America/New_York:20260304T190000
DTEND;TZID=America/New_York:20260304T200000
DTSTAMP:20260423T184103
CREATED:20260208T213452Z
LAST-MODIFIED:20260208T213452Z
UID:572-1772650800-1772654400@jimtownpark.com
SUMMARY:Softball 12U/14U Workout
DESCRIPTION:Elementary Gym\n12U/14U — 7:00pm
URL:https://jimtownpark.com/event/softball-12u-14u-workout-2/
LOCATION:Elementary Gym
CATEGORIES:Winter Workouts
END:VEVENT
BEGIN:VEVENT
DTSTART;TZID=America/New_York:20260307T120000
DTEND;TZID=America/New_York:20260307T140000
DTSTAMP:20260423T184103
CREATED:20260208T215249Z
LAST-MODIFIED:20260208T215249Z
UID:592-1772884800-1772892000@jimtownpark.com
SUMMARY:Baseball (Ages 9–12) Workout
DESCRIPTION:Elementary Gym\n12:00-2:00pm
URL:https://jimtownpark.com/event/baseball-ages-9-12-workout-4/
LOCATION:Elementary Gym
CATEGORIES:Winter Workouts
END:VEVENT
BEGIN:VEVENT
DTSTART;TZID=America/New_York:20260309T170000
DTEND;TZID=America/New_York:20260309T200000
DTSTAMP:20260423T184103
CREATED:20260215T165718Z
LAST-MODIFIED:20260215T165746Z
UID:620-1773075600-1773086400@jimtownpark.com
SUMMARY:Jimtown Park Culver's Give Back Night
DESCRIPTION:Come grab dinner and support Jimtown Park!
URL:https://jimtownpark.com/event/jimtown-park-culvers-give-back-night/
END:VEVENT
BEGIN:VEVENT
DTSTART;TZID=America/New_York:20260309T180000
DTEND;TZID=America/New_York:20260309T200000
DTSTAMP:20260423T184103
CREATED:20260208T212455Z
LAST-MODIFIED:20260208T212455Z
UID:549-1773079200-1773086400@jimtownpark.com
SUMMARY:Boys of Summer 10U Workout
DESCRIPTION:Elementary Gym\nMondays\, 6:00-8:00pm
URL:https://jimtownpark.com/event/boys-of-summer-10u-workout-3/
LOCATION:Elementary Gym
CATEGORIES:Winter Workouts
END:VEVENT
BEGIN:VEVENT
DTSTART;TZID=America/New_York:20260311T180000
DTEND;TZID=America/New_York:20260311T190000
DTSTAMP:20260423T184103
CREATED:20260208T213159Z
LAST-MODIFIED:20260208T213159Z
UID:564-1773252000-1773255600@jimtownpark.com
SUMMARY:Softball 8U/10U Workout
DESCRIPTION:Elementary Gym\n8U/10U — 6:00pm
URL:https://jimtownpark.com/event/softball-8u-10u-workout-3/
LOCATION:Elementary Gym
CATEGORIES:Winter Workouts
END:VEVENT
BEGIN:VEVENT
DTSTART;TZID=America/New_York:20260311T190000
DTEND;TZID=America/New_York:20260311T200000
DTSTAMP:20260423T184103
CREATED:20260208T213521Z
LAST-MODIFIED:20260208T213521Z
UID:574-1773255600-1773259200@jimtownpark.com
SUMMARY:Softball 12U/14U Workout
DESCRIPTION:Elementary Gym\n12U/14U — 7:00pm
URL:https://jimtownpark.com/event/softball-12u-14u-workout-3/
LOCATION:Elementary Gym
CATEGORIES:Winter Workouts
END:VEVENT
BEGIN:VEVENT
DTSTART;TZID=America/New_York:20260312T180000
DTEND;TZID=America/New_York:20260312T193000
DTSTAMP:20260423T184103
CREATED:20260303T075732Z
LAST-MODIFIED:20260303T075732Z
UID:667-1773338400-1773343800@jimtownpark.com
SUMMARY:Machine Pitch Baseball (Ages 6–8) Workout
DESCRIPTION:Elementary Gym\nThursdays\, 6:00pm–7:30pm \n\nWe are excited to get our 8U boys back in the gym and working hard as we prepare for the season! These workouts are a great opportunity to build skills\, improve fundamentals\, and grow as a team.\n\n\n Coaches: We are requesting that all coaches plan to attend and help work with the boys during these sessions. Your involvement makes a huge difference!\n\n\n Players: Please bring your glove and come ready to work hard with a great attitude!\n\n\nLet’s keep building and getting better together!
URL:https://jimtownpark.com/event/machine-pitch-baseball-ages-6-8-workout-2/
LOCATION:Elementary Gym
CATEGORIES:Winter Workouts
END:VEVENT
BEGIN:VEVENT
DTSTART;TZID=America/New_York:20260314T100000
DTEND;TZID=America/New_York:20260314T120000
DTSTAMP:20260423T184103
CREATED:20260215T165836Z
LAST-MODIFIED:20260215T165836Z
UID:623-1773482400-1773489600@jimtownpark.com
SUMMARY:Coaches Information Meeting
DESCRIPTION:
URL:https://jimtownpark.com/event/coaches-information-meeting/
LOCATION:Baugo Township Fire Department
END:VEVENT
BEGIN:VEVENT
DTSTART;TZID=America/New_York:20260314T120000
DTEND;TZID=America/New_York:20260314T140000
DTSTAMP:20260423T184103
CREATED:20260208T215318Z
LAST-MODIFIED:20260208T215318Z
UID:594-1773489600-1773496800@jimtownpark.com
SUMMARY:Baseball (Ages 9–12) Workout
DESCRIPTION:Elementary Gym\n12:00-2:00pm
URL:https://jimtownpark.com/event/baseball-ages-9-12-workout-5/
LOCATION:Elementary Gym
CATEGORIES:Winter Workouts
END:VEVENT
BEGIN:VEVENT
DTSTART;TZID=America/New_York:20260316T180000
DTEND;TZID=America/New_York:20260316T200000
DTSTAMP:20260423T184103
CREATED:20260208T212530Z
LAST-MODIFIED:20260208T212530Z
UID:551-1773684000-1773691200@jimtownpark.com
SUMMARY:Boys of Summer 10U Workout
DESCRIPTION:Elementary Gym\nMondays\, 6:00-8:00pm
URL:https://jimtownpark.com/event/boys-of-summer-10u-workout-4/
LOCATION:Elementary Gym
CATEGORIES:Winter Workouts
END:VEVENT
BEGIN:VEVENT
DTSTART;TZID=America/New_York:20260318T180000
DTEND;TZID=America/New_York:20260318T190000
DTSTAMP:20260423T184103
CREATED:20260208T213227Z
LAST-MODIFIED:20260208T213227Z
UID:566-1773856800-1773860400@jimtownpark.com
SUMMARY:Softball 8U/10U Workout
DESCRIPTION:Elementary Gym\n8U/10U — 6:00pm
URL:https://jimtownpark.com/event/softball-8u-10u-workout-4/
LOCATION:Elementary Gym
CATEGORIES:Winter Workouts
END:VEVENT
BEGIN:VEVENT
DTSTART;TZID=America/New_York:20260318T190000
DTEND;TZID=America/New_York:20260318T200000
DTSTAMP:20260423T184103
CREATED:20260208T213548Z
LAST-MODIFIED:20260208T213548Z
UID:576-1773860400-1773864000@jimtownpark.com
SUMMARY:Softball 12U/14U Workout
DESCRIPTION:Elementary Gym\n12U/14U — 7:00pm
URL:https://jimtownpark.com/event/softball-12u-14u-workout-4/
LOCATION:Elementary Gym
CATEGORIES:Winter Workouts
END:VEVENT
BEGIN:VEVENT
DTSTART;TZID=America/New_York:20260319T180000
DTEND;TZID=America/New_York:20260319T193000
DTSTAMP:20260423T184103
CREATED:20260303T075806Z
LAST-MODIFIED:20260303T075806Z
UID:669-1773943200-1773948600@jimtownpark.com
SUMMARY:Machine Pitch Baseball (Ages 6–8) Workout
DESCRIPTION:Elementary Gym\nThursdays\, 6:00pm–7:30pm \n\nWe are excited to get our 8U boys back in the gym and working hard as we prepare for the season! These workouts are a great opportunity to build skills\, improve fundamentals\, and grow as a team.\n\n\n Coaches: We are requesting that all coaches plan to attend and help work with the boys during these sessions. Your involvement makes a huge difference!\n\n\n Players: Please bring your glove and come ready to work hard with a great attitude!\n\n\nLet’s keep building and getting better together!
URL:https://jimtownpark.com/event/machine-pitch-baseball-ages-6-8-workout-3/
LOCATION:Elementary Gym
CATEGORIES:Winter Workouts
END:VEVENT
BEGIN:VEVENT
DTSTART;TZID=America/New_York:20260321T120000
DTEND;TZID=America/New_York:20260321T140000
DTSTAMP:20260423T184103
CREATED:20260208T215346Z
LAST-MODIFIED:20260208T215346Z
UID:596-1774094400-1774101600@jimtownpark.com
SUMMARY:Baseball (Ages 9–12) Workout
DESCRIPTION:Elementary Gym\n12:00-2:00pm
URL:https://jimtownpark.com/event/baseball-ages-9-12-workout-6/
LOCATION:Elementary Gym
CATEGORIES:Winter Workouts
END:VEVENT
BEGIN:VEVENT
DTSTART;TZID=America/New_York:20260323T180000
DTEND;TZID=America/New_York:20260323T200000
DTSTAMP:20260423T184103
CREATED:20260208T212710Z
LAST-MODIFIED:20260208T212710Z
UID:553-1774288800-1774296000@jimtownpark.com
SUMMARY:Boys of Summer 10U Workout
DESCRIPTION:Elementary Gym\nMondays\, 6:00-8:00pm
URL:https://jimtownpark.com/event/boys-of-summer-10u-workout-5/
LOCATION:Elementary Gym
CATEGORIES:Winter Workouts
END:VEVENT
BEGIN:VEVENT
DTSTART;TZID=America/New_York:20260325T180000
DTEND;TZID=America/New_York:20260325T190000
DTSTAMP:20260423T184103
CREATED:20260208T213322Z
LAST-MODIFIED:20260208T213322Z
UID:568-1774461600-1774465200@jimtownpark.com
SUMMARY:Softball 8U/10U Workout
DESCRIPTION:Elementary Gym\n8U/10U — 6:00pm
URL:https://jimtownpark.com/event/softball-8u-10u-workout-5/
LOCATION:Elementary Gym
CATEGORIES:Winter Workouts
END:VEVENT
BEGIN:VEVENT
DTSTART;TZID=America/New_York:20260325T190000
DTEND;TZID=America/New_York:20260325T200000
DTSTAMP:20260423T184103
CREATED:20260208T213614Z
LAST-MODIFIED:20260208T213614Z
UID:578-1774465200-1774468800@jimtownpark.com
SUMMARY:Softball 12U/14U Workout
DESCRIPTION:Elementary Gym\n12U/14U — 7:00pm
URL:https://jimtownpark.com/event/softball-12u-14u-workout-5/
LOCATION:Elementary Gym
CATEGORIES:Winter Workouts
END:VEVENT
BEGIN:VEVENT
DTSTART;TZID=America/New_York:20260326T180000
DTEND;TZID=America/New_York:20260326T193000
DTSTAMP:20260423T184103
CREATED:20260303T075839Z
LAST-MODIFIED:20260303T075839Z
UID:671-1774548000-1774553400@jimtownpark.com
SUMMARY:Machine Pitch Baseball (Ages 6–8) Workout
DESCRIPTION:Elementary Gym\nThursdays\, 6:00pm–7:30pm \n\nWe are excited to get our 8U boys back in the gym and working hard as we prepare for the season! These workouts are a great opportunity to build skills\, improve fundamentals\, and grow as a team.\n\n\n Coaches: We are requesting that all coaches plan to attend and help work with the boys during these sessions. Your involvement makes a huge difference!\n\n\n Players: Please bring your glove and come ready to work hard with a great attitude!\n\n\nLet’s keep building and getting better together!
URL:https://jimtownpark.com/event/machine-pitch-baseball-ages-6-8-workout-4/
LOCATION:Elementary Gym
CATEGORIES:Winter Workouts
END:VEVENT
BEGIN:VEVENT
DTSTART;VALUE=DATE:20260328
DTEND;VALUE=DATE:20260329
DTSTAMP:20260423T184103
CREATED:20260215T170011Z
LAST-MODIFIED:20260215T170011Z
UID:628-1774656000-1774742399@jimtownpark.com
SUMMARY:9U-12U Baseball Evaluations
DESCRIPTION:Details coming soon!
URL:https://jimtownpark.com/event/9u-12u-baseball-evaluations/
END:VEVENT
BEGIN:VEVENT
DTSTART;TZID=America/New_York:20260328T090000
DTEND;TZID=America/New_York:20260328T120000
DTSTAMP:20260423T184103
CREATED:20260215T165915Z
LAST-MODIFIED:20260215T165915Z
UID:626-1774688400-1774699200@jimtownpark.com
SUMMARY:Park Clean-Up Day
DESCRIPTION:
URL:https://jimtownpark.com/event/park-clean-up-day/
LOCATION:Jimtown Park
END:VEVENT
BEGIN:VEVENT
DTSTART;TZID=America/New_York:20260328T120000
DTEND;TZID=America/New_York:20260328T140000
DTSTAMP:20260423T184103
CREATED:20260208T215445Z
LAST-MODIFIED:20260208T215445Z
UID:598-1774699200-1774706400@jimtownpark.com
SUMMARY:Baseball (Ages 9–12) Evaluations & Draft
DESCRIPTION:Evaluations & Draft\nElementary Gym\n12:00-2:00pm
URL:https://jimtownpark.com/event/baseball-ages-9-12-evaluations-draft/
LOCATION:Elementary Gym
CATEGORIES:Winter Workouts
END:VEVENT
BEGIN:VEVENT
DTSTART;TZID=America/New_York:20260330T180000
DTEND;TZID=America/New_York:20260330T200000
DTSTAMP:20260423T184103
CREATED:20260208T212818Z
LAST-MODIFIED:20260208T212818Z
UID:558-1774893600-1774900800@jimtownpark.com
SUMMARY:Boys of Summer 10U Workout
DESCRIPTION:Elementary Gym\nMondays\, 6:00-8:00pm
URL:https://jimtownpark.com/event/boys-of-summer-10u-workout-6/
LOCATION:Elementary Gym
CATEGORIES:Winter Workouts
END:VEVENT
BEGIN:VEVENT
DTSTART;TZID=America/New_York:20260331T180000
DTEND;TZID=America/New_York:20260331T200000
DTSTAMP:20260423T184103
CREATED:20260215T170114Z
LAST-MODIFIED:20260215T170114Z
UID:630-1774980000-1774987200@jimtownpark.com
SUMMARY:T-Ball / Coach Pitch Kick-Off Night
DESCRIPTION:
URL:https://jimtownpark.com/event/t-ball-coach-pitch-kick-off-night/
LOCATION:Jimtown Park
END:VEVENT
BEGIN:VEVENT
DTSTART;TZID=America/New_York:20260402T180000
DTEND;TZID=America/New_York:20260402T193000
DTSTAMP:20260423T184103
CREATED:20260208T213927Z
LAST-MODIFIED:20260303T075848Z
UID:580-1775152800-1775158200@jimtownpark.com
SUMMARY:Machine Pitch Baseball (Ages 6–8) Workout
DESCRIPTION:Elementary Gym\nThursdays\, 6:00pm–7:30pm \n\nWe are excited to get our 8U boys back in the gym and working hard as we prepare for the season! These workouts are a great opportunity to build skills\, improve fundamentals\, and grow as a team.\n\n\n Coaches: We are requesting that all coaches plan to attend and help work with the boys during these sessions. Your involvement makes a huge difference!\n\n\n Players: Please bring your glove and come ready to work hard with a great attitude!\n\n\nLet’s keep building and getting better together!
URL:https://jimtownpark.com/event/machine-pitch-baseball-ages-6-8-workout/
LOCATION:Elementary Gym
CATEGORIES:Winter Workouts
END:VEVENT
BEGIN:VEVENT
DTSTART;TZID=America/New_York:20260418T090000
DTEND;TZID=America/New_York:20260418T120000
DTSTAMP:20260423T184103
CREATED:20260215T170155Z
LAST-MODIFIED:20260215T170155Z
UID:632-1776502800-1776513600@jimtownpark.com
SUMMARY:Park Clean-Up Day
DESCRIPTION:
URL:https://jimtownpark.com/event/park-clean-up-day-2/
LOCATION:Jimtown Park
END:VEVENT
BEGIN:VEVENT
DTSTART;TZID=America/New_York:20260424T180000
DTEND;TZID=America/New_York:20260424T190000
DTSTAMP:20260423T184103
CREATED:20260208T220402Z
LAST-MODIFIED:20260215T170312Z
UID:610-1777053600-1777057200@jimtownpark.com
SUMMARY:Park Opening Ceremonies
DESCRIPTION:
URL:https://jimtownpark.com/event/opening-ceremonies/
LOCATION:Jimtown Park
END:VEVENT
END:VCALENDAR