BEGIN:VCALENDAR
VERSION:2.0
PRODID:-//Jimtown Park - ECPv6.15.16.1//NONSGML v1.0//EN
CALSCALE:GREGORIAN
METHOD:PUBLISH
X-WR-CALNAME:Jimtown Park
X-ORIGINAL-URL:https://jimtownpark.com
X-WR-CALDESC:Events for Jimtown Park
REFRESH-INTERVAL;VALUE=DURATION:PT1H
X-Robots-Tag:noindex
X-PUBLISHED-TTL:PT1H
BEGIN:VTIMEZONE
TZID:America/New_York
BEGIN:DAYLIGHT
TZOFFSETFROM:-0500
TZOFFSETTO:-0400
TZNAME:EDT
DTSTART:20250309T070000
END:DAYLIGHT
BEGIN:STANDARD
TZOFFSETFROM:-0400
TZOFFSETTO:-0500
TZNAME:EST
DTSTART:20251102T060000
END:STANDARD
BEGIN:DAYLIGHT
TZOFFSETFROM:-0500
TZOFFSETTO:-0400
TZNAME:EDT
DTSTART:20260308T070000
END:DAYLIGHT
BEGIN:STANDARD
TZOFFSETFROM:-0400
TZOFFSETTO:-0500
TZNAME:EST
DTSTART:20261101T060000
END:STANDARD
BEGIN:DAYLIGHT
TZOFFSETFROM:-0500
TZOFFSETTO:-0400
TZNAME:EDT
DTSTART:20270314T070000
END:DAYLIGHT
BEGIN:STANDARD
TZOFFSETFROM:-0400
TZOFFSETTO:-0500
TZNAME:EST
DTSTART:20271107T060000
END:STANDARD
END:VTIMEZONE
BEGIN:VEVENT
DTSTART;TZID=America/New_York:20260331T180000
DTEND;TZID=America/New_York:20260331T200000
DTSTAMP:20260423T154210
CREATED:20260215T170114Z
LAST-MODIFIED:20260215T170114Z
UID:630-1774980000-1774987200@jimtownpark.com
SUMMARY:T-Ball / Coach Pitch Kick-Off Night
DESCRIPTION:
URL:https://jimtownpark.com/event/t-ball-coach-pitch-kick-off-night/
LOCATION:Jimtown Park
END:VEVENT
BEGIN:VEVENT
DTSTART;TZID=America/New_York:20260402T180000
DTEND;TZID=America/New_York:20260402T193000
DTSTAMP:20260423T154210
CREATED:20260208T213927Z
LAST-MODIFIED:20260303T075848Z
UID:580-1775152800-1775158200@jimtownpark.com
SUMMARY:Machine Pitch Baseball (Ages 6–8) Workout
DESCRIPTION:Elementary Gym\nThursdays\, 6:00pm–7:30pm \n\nWe are excited to get our 8U boys back in the gym and working hard as we prepare for the season! These workouts are a great opportunity to build skills\, improve fundamentals\, and grow as a team.\n\n\n Coaches: We are requesting that all coaches plan to attend and help work with the boys during these sessions. Your involvement makes a huge difference!\n\n\n Players: Please bring your glove and come ready to work hard with a great attitude!\n\n\nLet’s keep building and getting better together!
URL:https://jimtownpark.com/event/machine-pitch-baseball-ages-6-8-workout/
LOCATION:Elementary Gym
CATEGORIES:Winter Workouts
END:VEVENT
BEGIN:VEVENT
DTSTART;TZID=America/New_York:20260418T090000
DTEND;TZID=America/New_York:20260418T120000
DTSTAMP:20260423T154210
CREATED:20260215T170155Z
LAST-MODIFIED:20260215T170155Z
UID:632-1776502800-1776513600@jimtownpark.com
SUMMARY:Park Clean-Up Day
DESCRIPTION:
URL:https://jimtownpark.com/event/park-clean-up-day-2/
LOCATION:Jimtown Park
END:VEVENT
BEGIN:VEVENT
DTSTART;TZID=America/New_York:20260424T180000
DTEND;TZID=America/New_York:20260424T190000
DTSTAMP:20260423T154210
CREATED:20260208T220402Z
LAST-MODIFIED:20260215T170312Z
UID:610-1777053600-1777057200@jimtownpark.com
SUMMARY:Park Opening Ceremonies
DESCRIPTION:
URL:https://jimtownpark.com/event/opening-ceremonies/
LOCATION:Jimtown Park
END:VEVENT
END:VCALENDAR